BEGIN:VCALENDAR
VERSION:2.0
PRODID:-//Tukios.com/
BEGIN:VEVENT
UID:549adfa1-d191-4686-a7f6-6a99c92877a2@www.strangfuneral.org
DTSTAMP:20260422T180328Z
DTSTART:20260423T180000Z
DTEND:20260423T220000Z
SUMMARY:Visitation
DESCRIPTION:
URL:https://www.strangfuneral.org/obituaries/sreekakuleswara-swamy-manikonda
LOCATION:Strang Funeral Chapel & Crematorium 410 East Belvidere Road  
	Grayslake IL 60030
GEO:42.3373971;-88.0368761
END:VEVENT
END:VCALENDAR