BEGIN:VCALENDAR
VERSION:2.0
PRODID:-//Tukios.com/
BEGIN:VEVENT
UID:27b3ee34-1253-4868-a955-28b747f6b058@www.strangfuneral.org
DTSTAMP:20260420T190803Z
DTSTART:20260423T163000Z
DTEND:20260423T173000Z
SUMMARY:Funeral Service
DESCRIPTION:
URL:https://www.strangfuneral.org/obituaries/elaine-francke
LOCATION:Strang Funeral Chapel & Crematorium 410 East Belvidere Rd  
	Grayslake IL 60030
GEO:42.3373971;-88.0368761
END:VEVENT
END:VCALENDAR