BEGIN:VCALENDAR
VERSION:2.0
PRODID:-//Tukios.com/
BEGIN:VEVENT
UID:9130d74f-8dd4-49e7-9eb0-7f7d071ec710@www.strangfuneral.org
DTSTAMP:20260420T190722Z
DTSTART:20260423T153000Z
DTEND:20260423T163000Z
SUMMARY:Visitation
DESCRIPTION:
URL:https://www.strangfuneral.org/obituaries/elaine-francke
LOCATION:Strang Funeral Chapel & Crematorium 410 East Belvidere Rd  
	Grayslake IL 60030
GEO:42.3373971;-88.0368761
END:VEVENT
END:VCALENDAR