BEGIN:VCALENDAR
VERSION:2.0
PRODID:-//Tukios.com/
BEGIN:VEVENT
UID:43aade9a-19cb-48d6-88ed-b21a2341c1af@www.strangfuneral.org
DTSTAMP:20260424T223028Z
DTSTART:20260502T000000Z
DTEND:20260502T010000Z
SUMMARY:Funeral Service
DESCRIPTION:
URL:https://www.strangfuneral.org/obituaries/dolores-gehrke
LOCATION:Strang Funeral Chapel & Crematorium 410 East Belvidere Road  
	Grayslake IL 60030
GEO:42.3373971;-88.0368761
END:VEVENT
END:VCALENDAR