BEGIN:VCALENDAR
VERSION:2.0
PRODID:-//Tukios.com/
BEGIN:VEVENT
UID:ea0a7aaf-879c-4624-b602-b4a685841d6b@www.strangfuneral.org
DTSTAMP:20260424T223209Z
DTSTART:20260501T220000Z
DTEND:20260502T000000Z
SUMMARY:Visitation
DESCRIPTION:
URL:https://www.strangfuneral.org/obituaries/dolores-gehrke
LOCATION:Strang Funeral Chapel & Crematorium 410 East Belvidere Road  
	Grayslake IL 60030
GEO:42.3373971;-88.0368761
END:VEVENT
END:VCALENDAR