BEGIN:VCALENDAR
VERSION:2.0
PRODID:-//Tukios.com/
BEGIN:VEVENT
UID:3d36b690-892d-4282-b026-126ae1f5de0f@www.strangfuneral.org
DTSTAMP:20260423T011752Z
DTSTART:20260426T230000Z
DTEND:20260427T000000Z
SUMMARY:Funeral Service
DESCRIPTION:
URL:https://www.strangfuneral.org/obituaries/dean-tragos
LOCATION:Strang Funeral Chapel 410 East Belvidere Road  Grayslake IL 
	60030
GEO:42.3373971;-88.0368761
END:VEVENT
END:VCALENDAR