BEGIN:VCALENDAR
VERSION:2.0
PRODID:-//Tukios.com/
BEGIN:VEVENT
UID:82791303-5669-48c0-8cf1-441678def496@www.strangfuneral.org
DTSTAMP:20260423T011504Z
DTSTART:20260426T190000Z
DTEND:20260426T230000Z
SUMMARY:Visitation
DESCRIPTION:
URL:https://www.strangfuneral.org/obituaries/dean-tragos
LOCATION:Strang Funeral Chapel 410 East Belvidere Road  Grayslake IL 
	60030
GEO:42.3373971;-88.0368761
END:VEVENT
END:VCALENDAR