BEGIN:VCALENDAR
VERSION:2.0
PRODID:-//Tukios.com/
BEGIN:VEVENT
UID:410b9849-b983-4248-b11d-47565b7785dc@www.strangfuneral.org
DTSTAMP:20260422T223259Z
DTSTART:20260424T150000Z
DTEND:20260424T180000Z
SUMMARY:Visitation
DESCRIPTION:
URL:https://www.strangfuneral.org/obituaries/david-feltner-iii
LOCATION:Strang Funeral Chapel 410 East Belvidere Road  Grayslake IL 
	60030
GEO:42.3373971;-88.0368761
END:VEVENT
END:VCALENDAR