BEGIN:VCALENDAR
VERSION:2.0
PRODID:-//Tukios.com/
BEGIN:VEVENT
UID:5200d45c-d2e1-4909-af3d-3b056d5d7585@www.strangfuneral.org
DTSTAMP:20260422T222850Z
DTSTART:20260424T180000Z
DTEND:20260424T190000Z
SUMMARY:Funeral Service
DESCRIPTION:
URL:https://www.strangfuneral.org/obituaries/david-feltner-iii
LOCATION:Strang Funeral Chapel 410 East Belvidere Road  Grayslake IL 
	60030
GEO:42.3373971;-88.0368761
END:VEVENT
END:VCALENDAR