BEGIN:VCALENDAR
VERSION:2.0
PRODID:-//Tukios.com/
BEGIN:VEVENT
UID:bfcb2986-92b2-4e25-9aa0-d7cd8f59279c@www.strangfuneral.org
DTSTAMP:20260423T002831Z
DTSTART:20260425T160000Z
DTEND:20260425T170000Z
SUMMARY:Memorial Service
DESCRIPTION:
URL:https://www.strangfuneral.org/obituaries/barbara-gielow
LOCATION:Strang Funeral Chapel 410 East Belvidere Road  Grayslake IL 
	60030
GEO:42.3373971;-88.0368761
END:VEVENT
END:VCALENDAR