BEGIN:VCALENDAR
VERSION:2.0
PRODID:-//Tukios.com/
BEGIN:VEVENT
UID:7b9eee3e-dd11-4863-af33-4b439b70d2ce@www.strangfuneral.org
DTSTAMP:20260423T002205Z
DTSTART:20260425T150000Z
DTEND:20260425T160000Z
SUMMARY:Visitation
DESCRIPTION:
URL:https://www.strangfuneral.org/obituaries/barbara-gielow
LOCATION:Strang Funeral Chapel 410 East Belvidere Road  Grayslake IL 
	60030
GEO:42.3373971;-88.0368761
END:VEVENT
END:VCALENDAR